BEGIN:VCALENDAR
VERSION:2.0
PRODID:-//DigiMedia - ECPv6.3.1//NONSGML v1.0//EN
CALSCALE:GREGORIAN
METHOD:PUBLISH
X-WR-CALNAME:DigiMedia
X-ORIGINAL-URL:https://digimedia.pt
X-WR-CALDESC:Events for DigiMedia
REFRESH-INTERVAL;VALUE=DURATION:PT1H
X-Robots-Tag:noindex
X-PUBLISHED-TTL:PT1H
BEGIN:VTIMEZONE
TZID:UTC
BEGIN:STANDARD
TZOFFSETFROM:+0000
TZOFFSETTO:+0000
TZNAME:UTC
DTSTART:20250101T000000
END:STANDARD
END:VTIMEZONE
BEGIN:VEVENT
DTSTART;TZID=UTC:20251029T150000
DTEND;TZID=UTC:20251029T163000
DTSTAMP:20260423T103108
CREATED:20251022T095547Z
LAST-MODIFIED:20251022T144458Z
UID:18343-1761750000-1761755400@digimedia.pt
SUMMARY:Workshop Gestão de Dados de Investigação para as Unidades de Investigação
DESCRIPTION:
URL:https://digimedia.pt/event/sessao-de-formacao-em-gestao-de-dados-de-investigacao-para-as-unidades-de-investigacao/
LOCATION:Online
ATTACH;FMTTYPE=image/jpeg:https://digimedia.pt/wp-content/uploads/2025/10/UAveiroRDMCenter_SP_DECA_3uis_29.10.2025_page-0001-scaled.jpg
END:VEVENT
END:VCALENDAR