BEGIN:VCALENDAR
VERSION:2.0
PRODID:-//DigiMedia - ECPv6.3.1//NONSGML v1.0//EN
CALSCALE:GREGORIAN
METHOD:PUBLISH
X-WR-CALNAME:DigiMedia
X-ORIGINAL-URL:https://digimedia.pt
X-WR-CALDESC:Events for DigiMedia
REFRESH-INTERVAL;VALUE=DURATION:PT1H
X-Robots-Tag:noindex
X-PUBLISHED-TTL:PT1H
BEGIN:VTIMEZONE
TZID:UTC
BEGIN:STANDARD
TZOFFSETFROM:+0000
TZOFFSETTO:+0000
TZNAME:UTC
DTSTART:20210101T000000
END:STANDARD
END:VTIMEZONE
BEGIN:VEVENT
DTSTART;TZID=UTC:20210129T090000
DTEND;TZID=UTC:20210131T170000
DTSTAMP:20260419T205436
CREATED:20240322T160011Z
LAST-MODIFIED:20240322T160011Z
UID:15956-1611910800-1612112400@digimedia.pt
SUMMARY:Global Game Jam 2021
DESCRIPTION:The University of Aveiro is promoting the Global Game Jam® (GGJ)\, from 29 to 31 January 2021\, the largest game creation event in the world\, which takes place simultaneously in dozens of countries. \nDigiMedia members are involved in the organization of the event – Ana Veloso\, José Nunes\, Liliana Costa\, Mário Vairinhos\, Mónica Aresta\, Nelson Zagalo\, Pedro Beça\, Silvino Martins\, Tânia Ribeiro – along with other researchers from the Department of Communication and Art\, the Department of Electronics\, Telecommunications and Informatics and the School of Technology and Management of Águeda. \nIn the past edition of Global Game Jam® (GGJ) more than 60 UA members participated\, among students\, teachers and researchers. \nThe University of Aveiro participates for the fourth time (https://globalgamejam.org/2021/jam-sites/universidade-de-aveiro-ggj2021)\, now in an online format. The organization expects the participation of more than a hundred young creative and innovative university students\, who during the 48 hours of the event will develop team games. \nFor more information please contact ggj.uaveiro@gmail.com.
URL:https://digimedia.pt/event/global-game-jam-2021/
ATTACH;FMTTYPE=image/jpeg:https://digimedia.pt/wp-content/uploads/2024/03/resizer.jpeg
END:VEVENT
END:VCALENDAR