BEGIN:VCALENDAR
VERSION:2.0
PRODID:-//DigiMedia - ECPv6.3.1//NONSGML v1.0//EN
CALSCALE:GREGORIAN
METHOD:PUBLISH
X-ORIGINAL-URL:https://digimedia.pt
X-WR-CALDESC:Events for DigiMedia
REFRESH-INTERVAL;VALUE=DURATION:PT1H
X-Robots-Tag:noindex
X-PUBLISHED-TTL:PT1H
BEGIN:VTIMEZONE
TZID:UTC
BEGIN:STANDARD
TZOFFSETFROM:+0000
TZOFFSETTO:+0000
TZNAME:UTC
DTSTART:20250101T000000
END:STANDARD
END:VTIMEZONE
BEGIN:VEVENT
DTSTART;TZID=UTC:20251218T150000
DTEND;TZID=UTC:20251218T170000
DTSTAMP:20260420T072635
CREATED:20251126T121649Z
LAST-MODIFIED:20251126T122031Z
UID:18519-1766070000-1766077200@digimedia.pt
SUMMARY:PhD defense Raquel Magalhães Cabral
DESCRIPTION:Raquel Magalhães Cabral will present her project of the Doctoral Program in Information and Communication on Digital Platforms\, with the topic “Modelo Infocomunicacional para Educação Social e Emocional de alunos do Ensino Secundário: Estudo Multicaso em Aveiro e Barcelona”\, at Sala 25.1.31 – Sala de Atos Académicos\, Edifício Central e da Reitoria\, Universidade de Aveiro\, on December 18\, 2025\, at 3 p.m. \nMore information here.
URL:https://digimedia.pt/event/phd-defense-raquel-magalhaes-cabral/
END:VEVENT
BEGIN:VEVENT
DTSTART;TZID=UTC:20251222T160000
DTEND;TZID=UTC:20251222T190000
DTSTAMP:20260420T072635
CREATED:20251127T151555Z
LAST-MODIFIED:20251127T161923Z
UID:18598-1766419200-1766430000@digimedia.pt
SUMMARY:PhD defense of Sofia Ribeiro
DESCRIPTION:Sofia Ribeiro will present her project of the Doctoral Program in Information and Communication on Digital Platforms\, with the topic “Modelo de capacitação digital docente: Plataforma digital para criação de recursos educativos tangíveis”\, at Sala 25.1.31 – Sala de Atos Académicos\, Edifício Central e da Reitoria\, Universidade de Aveiro\, on December 22\, 2025\, at 4 p.m. \nMore information here. \n 
URL:https://digimedia.pt/event/phd-defense-of-sofia-ribeiro/
LOCATION:Sala dos Atos Académicos – Edifício Central e da Reitoria
END:VEVENT
BEGIN:VEVENT
DTSTART;TZID=UTC:20260304T143000
DTEND;TZID=UTC:20260304T153000
DTSTAMP:20260420T072635
CREATED:20260223T100108Z
LAST-MODIFIED:20260302T114756Z
UID:18960-1772634600-1772638200@digimedia.pt
SUMMARY:Ecossistemas digitais contemporâneos e desinformação disputa de narrativas na esfera pública
DESCRIPTION:Media Innovation Circle #24 \nNa atualidade\, os ecossistemas digitais contemporâneos medeiam e influenciam a circulação de informações\, moldando afetos e perceções sobre agendas de interesse público\, num contexto social marcado pela polarização e desinformação. Neste encontro discutir-se-ão os desafios e as estratégias empreendidas por atores sociais coletivos na disputa de narrativas\, no enfrentamento à desinformação na esfera pública. \n  \nBio da autora \nGeysianne Felipe é mestre em Comunicação e culturas midiáticas e doutoranda em ciência da informação pela Universidade Federal da Paraíba. Atualmente desenvolve parte de sua investigação na Universidade de Aveiro acerca da desinformação no contexto da migração e práticas informacionais como estratégia de mobilização coletiva de movimentos sociais migrantes em Portugal.  \n  \nConvidadas \nMaria João Antunes\, orientadora \nLiliana Costa \nCatarina Feio \n  \nEsta sessão decorre em formato híbrido na Sala 40.2.5 e online aqui. \nA participação é gratuita.
URL:https://digimedia.pt/event/ecossistemas-digitais-contemporaneos-e-desinformacao-disputa-de-narrativas-na-esfera-publica/
LOCATION:Sala 40.2.5\, Department of Communication and Art - University of Aveiro
ATTACH;FMTTYPE=image/jpeg:https://digimedia.pt/wp-content/uploads/2026/02/novo.jpg
END:VEVENT
END:VCALENDAR