BEGIN:VCALENDAR
VERSION:2.0
PRODID:-//DigiMedia - ECPv6.3.1//NONSGML v1.0//EN
CALSCALE:GREGORIAN
METHOD:PUBLISH
X-WR-CALNAME:DigiMedia
X-ORIGINAL-URL:https://digimedia.pt
X-WR-CALDESC:Events for DigiMedia
REFRESH-INTERVAL;VALUE=DURATION:PT1H
X-Robots-Tag:noindex
X-PUBLISHED-TTL:PT1H
BEGIN:VTIMEZONE
TZID:UTC
BEGIN:STANDARD
TZOFFSETFROM:+0000
TZOFFSETTO:+0000
TZNAME:UTC
DTSTART:20250101T000000
END:STANDARD
END:VTIMEZONE
BEGIN:VEVENT
DTSTART;TZID=UTC:20251126T140000
DTEND;TZID=UTC:20251213T160000
DTSTAMP:20260425T102057
CREATED:20251106T143535Z
LAST-MODIFIED:20251209T144214Z
UID:18385-1764165600-1765641600@digimedia.pt
SUMMARY:students@DigiMedia #05
DESCRIPTION:APPLICATIONS OPEN! \n  \nFollowing the presentation session of the fifth edition of PITCH\, here are the links to the proposals and the application form \n– Link to the proposals: https://tinyurl.com/propostas05 \n– Link to the application form: https://tinyurl.com/studentsDM05 \n  \nStudents from all UA scientific disciplines are invited to apply by 12th December. \nThe results will be announced on 15th December. \n  \nGet to know this year’s projects \nMeet them on November 26th \, and be part of this initiative! \n  \nProject n.1 Envelhecer com deficiência intelectual \n  \nProject n.2 Breaking (micro)Bio: quando a ciência se torna viciante – a BD como ferramenta de comunicação científica \n  \nProject n.3 Design de um handbook digital da Unidade de Investigação DigiMedia \n  \nProject n.4 Milho para os Pardais – volume II \n  \nProject n.5 Conhecer MTC \n  \nProject n.6 Captação de conteúdo audiovisual imersivo para uma experiência de cicloturismo virtual sénior \n  \nProject n.7 MOVEDEM \n  \nProject n.8 SeniorBox Toolkit: Desenvolvimento de uma estratégia de comunicação audiovisual \n  \nProject n.9 Conceptualização de uma Aplicação Musical Assistiva para Crianças com Paralisia Cerebral \n  \nProject n.10 Design de protótipo de plataforma web para um Laboratório de Apoio à Inclusão \n  \nProject n.11 Utilização de IA generativa na Universidade de Aveiro \n  \nProject n.12 Comunicar Ciência: E-books Interativos para o DigitalOBS \n  \nProject n.13 Boas práticas de divulgação de espaços inclusivos: elaboração de ferramentas visuais \n  \nProject n.14 Consumer Eco-Literacy Research: constructs and measurement scales \n  \nProject n.15 Revalidação da escala: Fictional Character Empathy Communication Assessment (FCECA) \n  \nProject n.16 Toward strengthening student agency while interacting with AI-powered writing tools: mapping the effects of GenAI \ncollaboration on learners’ critical thinking and creative skills \n  \nProject n.17 Desenvolvimento de protótipo de jogo digital para promover a saúde mental \n  \nProject n.18 Let’s talk about… students@DigiMedia \n  \nProject n.19 Identidade visual da Escola de Viticultura e Enologia da Bairrada \nProject n.20 Desenvolvimento do Website Oficial do Projeto Europeu CREATE \n  \n  \nAbout students@DigiMedia \nIt is a DigiMedia initiative that aims to include students from 1st and 2nd cycle in research activities\, following the challenge launched by the University of Aveiro (UA) Rectory to the Research Units\, in 2021. \n  \nHow is the 5th edition going to be? \nThe students@DigiMedia initiative began involving only researchers and students in the area of ​​Communication Sciences and Technologies. \nSince the 3rd edition (2023/24) we have sought to promote interdisciplinary collaboration to generate more ideas and extend participation to students from all scientific fields. \nFor the 5th edition (2025/26)\, and aiming to continue to strengthen collaboration between UA Research Units\, we once again welcome researchers from all scientific areas at the UA\, who can also submit proposals for (small) research projects. \n  \nHow students@DigiMedia works? \nThis initiative works as a facilitator for researchers to present proposals for research projects that will be developed with the collaboration of a group of students. The work carried out is voluntary and there are no prizes\, except certificates of participation. The work required from each student cannot exceed 50 hours throughout the entire project. This aims to establish a balance between what is voluntary work and the benefits students can obtain by participating in a research activity and developing transversal skills. \n  \nstudents@DigiMedia timeline \n\nResearchers present project proposals;\nThe coordination classifies the most relevant proposals\, informing the respective coordinators;\nThe projects are disclosed to students in a face-to-face session\, and each project coordinator must have a pitch about his/her project proposal;\nStudents express their interest in participating in the projects\, indicated by order of preference;\nThe coordination creates project teams\, informing the respective coordinators;\nProject teams work autonomously\, according to the project coordinator’s plan;\nThe coordination carries out one or two moments of monitoring the status of projects during the 2nd semester;\nThe final results are presented at a special event\, part of the UA Research Summit.\n\n  \nSave the date! \n17/11/2025 Deadline for submission of proposals \n26/11/2025 Pitch presentation \n12/12/2025 Deadline for students registration \n12/12/2025 Announcement of work teams \nJuly 2026 – Final presentation of projects \n  \n  \nRules for the submission of proposals  \n\nThe total number of projects for this students@DigiMedia 5th edition cannot exceed 16. Each project must be designed for a team of students with a maximum of four members\, whose individual dedication to the project cannot exceed a total of 50h.\nAll UA researchers\, including doctoral students\, can submit proposals\, according to the rules presented below.\nEach proponent can only submit one proposal as a project coordinator\, although they can be part of the research team for other proposals.\nProposals from researchers from other scientific areas must respect the following conditions:\n\n\n\n\nThe project team must have at least one DigiMedia integrated member;\nThe project team must ensure that at least one student is from the scientific field of the project. This condition should be met during the students’ registration phase.\n\n\n\n\nProject proposals will be evaluated according to the following criteria:\n\n50% for the Scientific relevance on the context of DigiMedia’s mission ;\n30% for the Project viability\, respecting the limits imposed for the team work and the deadlines;\n20% for the Scientific outputs expected from the project.\n\n\n\n\nRegardless of the classification obtained following the previous criteria\, it is guaranteed that 50% of the selected projects have a DigiMedia member as coordinator.\n\n\nThe jury responsible for evaluating the proposals is as follows:\n\nNelson Zagalo\, Scientific Coordinator of DigiMedia\nMónica Aresta\, Coordinator of the students@DigiMedia initiative.\n\n\n\n  \nThe jury responsible for evaluating the proposals is as follows: \nNelson Zagalo\, Scientific Coordinator of DigiMedia \nMónica Aresta\, Coordinator of the students@DigiMedia initiative. \n  \n  \n  \nMay 2026 Get to know the projects \n  \nTBD Projects’ presentation
URL:https://digimedia.pt/event/studentsdigimedia-05/
LOCATION:Auditório CCCI\, DeCA\, Universidade de Aveiro\, Aveiro\, Aveiro\, 3810-193\, Portugal
ATTACH;FMTTYPE=image/png:https://digimedia.pt/wp-content/uploads/2025/11/students@Digimedia05-1.png
END:VEVENT
BEGIN:VEVENT
DTSTART;TZID=UTC:20251126T143000
DTEND;TZID=UTC:20251126T173000
DTSTAMP:20260425T102057
CREATED:20251117T151340Z
LAST-MODIFIED:20251117T151340Z
UID:18416-1764167400-1764178200@digimedia.pt
SUMMARY:PhD defense of Juliana Camargo
DESCRIPTION:Juliana Camargo  will present her project of the Doctoral Program in Information and Communication on Digital Platforms\, with the topic “Assistente Proativo para tv como promotor da comunicação intergeracional: foco nos idosos”\, at Sala de Atos Académicos\, Edifício Central e da Reitoria da Universidade de Aveiro\, on November 26\, 2025\, at 2:30 p.m. \nMore information here. \n 
URL:https://digimedia.pt/event/phd-defense-of-juliana-camargo/
LOCATION:Sala dos Atos Académicos – Edifício Central e da Reitoria
END:VEVENT
END:VCALENDAR