BEGIN:VCALENDAR
VERSION:2.0
PRODID:-//DigiMedia - ECPv6.3.1//NONSGML v1.0//EN
CALSCALE:GREGORIAN
METHOD:PUBLISH
X-WR-CALNAME:DigiMedia
X-ORIGINAL-URL:https://digimedia.pt
X-WR-CALDESC:Events for DigiMedia
REFRESH-INTERVAL;VALUE=DURATION:PT1H
X-Robots-Tag:noindex
X-PUBLISHED-TTL:PT1H
BEGIN:VTIMEZONE
TZID:UTC
BEGIN:STANDARD
TZOFFSETFROM:+0000
TZOFFSETTO:+0000
TZNAME:UTC
DTSTART:20250101T000000
END:STANDARD
END:VTIMEZONE
BEGIN:VEVENT
DTSTART;TZID=UTC:20251110T110000
DTEND;TZID=UTC:20251110T130000
DTSTAMP:20260425T102001
CREATED:20251031T132951Z
LAST-MODIFIED:20251106T105450Z
UID:18370-1762772400-1762779600@digimedia.pt
SUMMARY:Seminário: Jovens e Desinformação: desafios comuns e particularidades
DESCRIPTION:Daniela Silva é doutora em Comunicação e Cultura Contemporâneas (UFBA); pós-doutorado em Ciência da Informação (UFRGS). Professora convidada\, pesquisadora\, jornalista e gestora social. Integra o Grupo de Pesquisa Infocom (UFRGS). Pesquisa e trabalha com crianças\, adolescentes e jovens há mais de 15 anos. A investigação atual tem foco na relação dos jovens com a desinformação; educação midiática/educação em informação\, participação.  Tem colaborado com o fortalecimento da educação pública via escolas\, redes de ensino\, instituições e organismos internacionais\, sempre em articulação com poder público e comunidades. \nEntrada Livre \nLíngua: Português
URL:https://digimedia.pt/event/seminario-jovens-e-desinformacao-desafios-comuns-e-particularidades/
LOCATION:Anfiteatro V (Dep. de Eletrónica e Telecomunicação)
ATTACH;FMTTYPE=image/png:https://digimedia.pt/wp-content/uploads/2025/10/lidia.png
END:VEVENT
END:VCALENDAR