BEGIN:VCALENDAR
VERSION:2.0
PRODID:-//DigiMedia - ECPv6.3.1//NONSGML v1.0//EN
CALSCALE:GREGORIAN
METHOD:PUBLISH
X-WR-CALNAME:DigiMedia
X-ORIGINAL-URL:https://digimedia.pt
X-WR-CALDESC:Events for DigiMedia
REFRESH-INTERVAL;VALUE=DURATION:PT1H
X-Robots-Tag:noindex
X-PUBLISHED-TTL:PT1H
BEGIN:VTIMEZONE
TZID:UTC
BEGIN:STANDARD
TZOFFSETFROM:+0000
TZOFFSETTO:+0000
TZNAME:UTC
DTSTART:20240101T000000
END:STANDARD
END:VTIMEZONE
BEGIN:VEVENT
DTSTART;TZID=UTC:20240703T143000
DTEND;TZID=UTC:20240703T153000
DTSTAMP:20260419T160024
CREATED:20240626T155520Z
LAST-MODIFIED:20240701T160917Z
UID:17319-1720017000-1720020600@digimedia.pt
SUMMARY:Seminar - Inteligência Artificial na interface entre Patrimônio Cultural e Fotografia
DESCRIPTION:The Seminar “Inteligência Artificial na interface entre Patrimônio Cultural e Fotografia” \, takes place on July 3\, 2024\, from 2:30PM to 3:30PM. The seminar will be led by Carmen Silva\, a visiting researcher at DigiMedia\, from the Universidade Federal do Pará\, Brasil. \nThe seminar will be online here: \nhttps://videoconf-colibri.zoom.us/j/6902003638?pwd=YmU3Szk4L1pPUm5DYTBOWU9ISVFYUT09 \nThe seminar is free and will be led in portuguese. \nBIO: Carmen Silva is an Associate Professor of the undergraduate course in Museology and the master’s course in Cultural Heritage Sciences at the Federal University of Pará\, Brazil. PhD in Communication Sciences from Unisinos (RS\, Brazil). Master in Information and Communication Sciences from Lyon 2 University (France). Specialist in Visual Poetics: Engraving\, Photography and Digital Imaging from Feevale University (RS\, Brazil). Works in the areas of Communication\, Museology\, Cultural Heritage and Arts\, with emphasis on digital culture\, image and photography\, diversity and inclusion. Currently\, she conducts her Post-Doctoral research at the Department of Communication and Art (University of Aveiro\, Portugal). \nAbstract: The seminar will address the potential and challenges of Artificial Intelligence through the connection between Cultural Heritage and Photography. It is an invitation to reflect on the meaning of these innovations\, considering the directions of this relationship.
URL:https://digimedia.pt/event/seminar-inteligencia-artificial-na-interface-entre-patrimonio-cultural-e-fotografia/
ATTACH;FMTTYPE=image/jpeg:https://digimedia.pt/wp-content/uploads/2024/06/Carmen_Apresentacao_imagens.jpg
END:VEVENT
END:VCALENDAR