BEGIN:VCALENDAR
VERSION:2.0
PRODID:-//DigiMedia - ECPv6.3.1//NONSGML v1.0//EN
CALSCALE:GREGORIAN
METHOD:PUBLISH
X-ORIGINAL-URL:https://digimedia.pt
X-WR-CALDESC:Events for DigiMedia
REFRESH-INTERVAL;VALUE=DURATION:PT1H
X-Robots-Tag:noindex
X-PUBLISHED-TTL:PT1H
BEGIN:VTIMEZONE
TZID:UTC
BEGIN:STANDARD
TZOFFSETFROM:+0000
TZOFFSETTO:+0000
TZNAME:UTC
DTSTART:20240101T000000
END:STANDARD
END:VTIMEZONE
BEGIN:VEVENT
DTSTART;TZID=UTC:20240614T110000
DTEND;TZID=UTC:20240614T113000
DTSTAMP:20260419T173019
CREATED:20240611T094855Z
LAST-MODIFIED:20240611T094855Z
UID:17239-1718362800-1718364600@digimedia.pt
SUMMARY:Apresentação da rede de investigação PROCOMHUM – Perspetivas em Comunicação Multimédia e Humanismo
DESCRIPTION:Presentation of the new research network PROCOMHUM – Perspetivas em Comunicação Multimédia e Humanismo\, in which the DigiMedia researchers Patrícia Oliveira and Rita Oliveira are pivots for Portugal. \nMore information about the event and registration here: https://www.unir.net/evento/seminarios/investigacion-procomhum/
URL:https://digimedia.pt/event/apresentacao-da-rede-de-investigacao-procomhum-perspetivas-em-comunicacao-multimedia-e-humanismo/
END:VEVENT
BEGIN:VEVENT
DTSTART;TZID=UTC:20240614T160000
DTEND;TZID=UTC:20240614T180000
DTSTAMP:20260419T173019
CREATED:20240611T154402Z
LAST-MODIFIED:20240611T154402Z
UID:17242-1718380800-1718388000@digimedia.pt
SUMMARY:Workshop Interactive Content Creation: A Beginner's Guide to Creating\, Sharing and Reusing Digital Resources
DESCRIPTION:The workshop “Interactive Content Creation: A Beginner’s Guide to Creating\, Sharing and Reusing Digital Resources”\, will take place on June 14\, 2024\, from 4pm to 6pm\, and will be led by Elitsa Vasileva Peltekova\, a visiting researcher from the University of Sofia St. Kliment Ohridski\, in Bulgaria. \nThe workshop\, organized by the DigiMedia researcher Carlos Santos\, will be in a hybrid format: \nRoom 40.2.5 (DeCA) \nOnline https://videoconf-colibri.zoom.us/j/98937603203 \nAbstract: \n2-hour hybrid training session for H5P beginners which involves a structured approach that introduces the core concepts and allows hands-on practice. \nBio: \nElitsa Vasileva Peltekova\, Assistant Professor in the Department of Information Technology and Information assurance expert E-Learning at E-Distance and Distance Learning Sector at the Faculty of Mathematics and Informatics (FMI) at Sofia University “St. Kliment Ohridski” (Sofia University). Her research and academic interests are in the field of: interactive content and technologies (interactive boards)\, extended reality\, inquiry-based learning; application of information and communication technologies in education. \nShe holds a Doctoral degree in Computer science and Master in E-learning from FMI at Sofia\, Bulgaria and Bachelor in Applied Mathematics from the Faculty of Applied Mathematics and Informatics at the Technical University – Sofia\, Bulgaria. \nElitsa has been a visiting researcher in 2023 at the Institute for Educational Technology (CNR-ITD)\, Genoa\, Italy. She has been a doctoral exchange student within Erasmus+ Programme in 2016 at the Faculty of applied informatics and mathematics at Warsaw University of Life Sciences (Szkoła Główna Gospodarstwa Wiejskiego w Warszawie\, SGGW)\, Warsaw\, Poland. She has been an exchange bachelor student within Erasmus Programme in 2008 at the Free University of Brussels (Université libre de Bruxelles\, ULB)\, Brussels\, Belgium. \nShe has been working at Sofia University since 2009 and she is also currently part of the team of the Distance Learning Center of SU. \nSince 2013 she has been a lecturer at RAABE Bulgaria on topics related to the use of interactive whiteboards in the educational process\, Microsoft Office software (Word\, PowerPoint\, Excel)\, cloud technologies for education (Microsoft Teams\, Google Suite/Workspace)\, etc. \nSince 2008 she has participated in 40 projects – both national and international. Author and co-author of 32 publications.
URL:https://digimedia.pt/event/workshop-interactive-content-creation-a-beginners-guide-to-creating-sharing-and-reusing-digital-resources/
LOCATION:40.2.5 – DeCA\, DeCA\, Universidade de Aveiro\, Aveiro\, Aveiro\, Portugal
ATTACH;FMTTYPE=image/jpeg:https://digimedia.pt/wp-content/uploads/2024/06/workshop-bulgaria.jpg
END:VEVENT
END:VCALENDAR