BEGIN:VCALENDAR
VERSION:2.0
PRODID:-//DigiMedia - ECPv6.3.1//NONSGML v1.0//EN
CALSCALE:GREGORIAN
METHOD:PUBLISH
X-ORIGINAL-URL:https://digimedia.pt
X-WR-CALDESC:Events for DigiMedia
REFRESH-INTERVAL;VALUE=DURATION:PT1H
X-Robots-Tag:noindex
X-PUBLISHED-TTL:PT1H
BEGIN:VTIMEZONE
TZID:UTC
BEGIN:STANDARD
TZOFFSETFROM:+0000
TZOFFSETTO:+0000
TZNAME:UTC
DTSTART:20240101T000000
END:STANDARD
END:VTIMEZONE
BEGIN:VEVENT
DTSTART;TZID=UTC:20240620T143000
DTEND;TZID=UTC:20240620T143000
DTSTAMP:20260419T173110
CREATED:20240527T091419Z
LAST-MODIFIED:20240606T134337Z
UID:17163-1718893800-1718893800@digimedia.pt
SUMMARY:Workshop - Ferramentas de IA: Análise de Redes Sociais
DESCRIPTION:The workshop “Ferramentas de IA: Análise de Redes Sociais”\, led by Professor Luís Xabier Martínez Rólan\, will take place on June 20\, 2024\, at 2:30 PM. The workshop is organized by the DigitalOBS team and will be presented in portuguese. \nParticipation is free\, but requires registration here. \nBio: PhD in Communication from the University of Vigo (2016) and Professor at the same university. His academic and professional career focuses on the field of online communication\, the development of interactive projects and the world of digital marketing. He teaches subjects related to web development\, digital communication and online marketing.
URL:https://digimedia.pt/event/workshop-ferramentas-de-ia-analise-de-redes-sociais/
ATTACH;FMTTYPE=image/jpeg:https://digimedia.pt/wp-content/uploads/2024/05/Cartaz-AI--scaled.jpg
END:VEVENT
END:VCALENDAR