BEGIN:VCALENDAR
VERSION:2.0
PRODID:-//DigiMedia - ECPv6.3.1//NONSGML v1.0//EN
CALSCALE:GREGORIAN
METHOD:PUBLISH
X-ORIGINAL-URL:https://digimedia.pt
X-WR-CALDESC:Events for DigiMedia
REFRESH-INTERVAL;VALUE=DURATION:PT1H
X-Robots-Tag:noindex
X-PUBLISHED-TTL:PT1H
BEGIN:VTIMEZONE
TZID:UTC
BEGIN:STANDARD
TZOFFSETFROM:+0000
TZOFFSETTO:+0000
TZNAME:UTC
DTSTART:20240101T000000
END:STANDARD
END:VTIMEZONE
BEGIN:VEVENT
DTSTART;TZID=UTC:20240524T153000
DTEND;TZID=UTC:20240524T163000
DTSTAMP:20260419T185902
CREATED:20240509T144930Z
LAST-MODIFIED:20240521T135449Z
UID:16977-1716564600-1716568200@digimedia.pt
SUMMARY:Workshop "Introduction to Bibliometrix: A Tool for Scientific Research"\, organized by DigitalOBS
DESCRIPTION:The workshop\, organized by the DigitalOBS team and DigiMedia in collaboration with SOPCOM\, will be led by Jenifer Grieger\, a researcher at DigIMedia and at InfoMedia\, in the Universidade Federal do Paraná. . \nThe workshop will be online and it will be delivered in Portuguese. \nParticipation is free\, but the registration is mandatory in this link: https://forms.ua.pt/index.php?r=survey/index&sid=341226&lang=pt
URL:https://digimedia.pt/event/workshop-introduction-to-bibliometrix-a-tool-for-scientific-research-organized-by-digitalobs/
ATTACH;FMTTYPE=image/png:https://digimedia.pt/wp-content/uploads/2024/05/cartaz-bio.png
END:VEVENT
END:VCALENDAR