BEGIN:VCALENDAR
VERSION:2.0
PRODID:-//DigiMedia - ECPv6.3.1//NONSGML v1.0//EN
CALSCALE:GREGORIAN
METHOD:PUBLISH
X-WR-CALNAME:DigiMedia
X-ORIGINAL-URL:https://digimedia.pt
X-WR-CALDESC:Events for DigiMedia
REFRESH-INTERVAL;VALUE=DURATION:PT1H
X-Robots-Tag:noindex
X-PUBLISHED-TTL:PT1H
BEGIN:VTIMEZONE
TZID:UTC
BEGIN:STANDARD
TZOFFSETFROM:+0000
TZOFFSETTO:+0000
TZNAME:UTC
DTSTART:20240101T000000
END:STANDARD
END:VTIMEZONE
BEGIN:VEVENT
DTSTART;TZID=UTC:20240418T143000
DTEND;TZID=UTC:20240418T143000
DTSTAMP:20260420T124055
CREATED:20240410T162223Z
LAST-MODIFIED:20240410T162643Z
UID:16773-1713450600-1713450600@digimedia.pt
SUMMARY:Workshop "Ferramentas de Inteligência Artificial aplicadas à Investigação Científica"\, organized by DigitalOBS
DESCRIPTION:The workshop “Ferramentas de Inteligência Artificial aplicadas à Investigação Científica”\, led by Professor Luís Xabier Martínez Rólan\, will take place next month\, on 18th April 2024\, at 3:30 PM. The workshop is organized by the DigitalOBS team and will be presented in portuguese and it is free. \nYou can register here:  https://forms.ua.pt/index.php?r=survey/index&sid=138991&newtest=Y&lang=pt 
URL:https://digimedia.pt/event/workshop-ferramentas-de-inteligencia-artificial-aplicadas-a-investigacao-cientifica-organized-by-digitalobs/
ATTACH;FMTTYPE=image/jpeg:https://digimedia.pt/wp-content/uploads/2024/04/Cartaz-AI_03-abril-2024-com-QRCode-scaled-1.jpg
END:VEVENT
BEGIN:VEVENT
DTSTART;TZID=UTC:20240418T143000
DTEND;TZID=UTC:20240418T153000
DTSTAMP:20260420T124055
CREATED:20240418T143509Z
LAST-MODIFIED:20240418T144552Z
UID:16857-1713450600-1713454200@digimedia.pt
SUMMARY:Media Innovation Circle #22 What goes around comes around. A tale of artificial intelligence
DESCRIPTION:What goes around comes around. A tale of artificial intelligence\nA talk with Prof. Xabier Martinez Rolan\nBio: PhD in Communication from the University of Vigo (2016) and Professor at the same university. His academic and professional career focuses on the field of online communication\, the development of interactive projects and the world of digital marketing. He teaches subjects related to web development\, digital communication and online marketing.\n\n\nAbstract: This talk will address the saying “what goes around comes around” from a contemporary perspective\, relating it to the field of Artificial Intelligence (AI). It will discuss how our decisions and actions\, in the context of AI\, can have significant repercussions\, both positive and negative. Ethical and practical issues will be explored\, including responsibility in the development and application of AI\, as well as the possible associated risks. Through a narrative approach\, the aim will be to illustrate these concepts in an accessible and reflective way. The talk invites reflection on how we can more consciously navigate the current technological landscape to shape an ethical and equitable future in the field of AI.
URL:https://digimedia.pt/event/media-innovation-circle-22-what-goes-around-comes-around-a-tale-of-artificial-intelligence/
ATTACH;FMTTYPE=image/jpeg:https://digimedia.pt/wp-content/uploads/2024/04/417399551_1137963354260080_6475242360959488051_n.jpg
END:VEVENT
END:VCALENDAR